BEGIN:VCALENDAR
VERSION:2.0
PRODID:-//www.brotherhoodsoftball.com//iCal Event Maker
X-WR-TIMEZONE:America/New_York
BEGIN:VEVENT
DTSTAMP:20140416T223543Z
UID:466
DTSTART;TZID=America/New_York:20260503T093000
DTEND;TZID=America/New_York:20260503T110000
SUMMARY:Onyx vs Topaz
DESCRIPTION:
LOCATION:B1
END:VEVENT
BEGIN:VEVENT
DTSTAMP:20140416T223543Z
UID:473
DTSTART;TZID=America/New_York:20260510T093000
DTEND;TZID=America/New_York:20260510T110000
SUMMARY:Garnets vs Onyx
DESCRIPTION:
LOCATION:B2
END:VEVENT
BEGIN:VEVENT
DTSTAMP:20140416T223543Z
UID:480
DTSTART;TZID=America/New_York:20260524T110000
DTEND;TZID=America/New_York:20260524T123000
SUMMARY:Onyx vs Diamonds
DESCRIPTION:
LOCATION:B1
END:VEVENT
BEGIN:VEVENT
DTSTAMP:20140416T223543Z
UID:483
DTSTART;TZID=America/New_York:20260531T080000
DTEND;TZID=America/New_York:20260531T093000
SUMMARY:Quartz vs Onyx
DESCRIPTION:
LOCATION:B2
END:VEVENT
BEGIN:VEVENT
DTSTAMP:20140416T223543Z
UID:492
DTSTART;TZID=America/New_York:20260607T110000
DTEND;TZID=America/New_York:20260607T123000
SUMMARY:Onyx vs Sapphires
DESCRIPTION:
LOCATION:B1
END:VEVENT
BEGIN:VEVENT
DTSTAMP:20140416T223543Z
UID:494
DTSTART;TZID=America/New_York:20260614T080000
DTEND;TZID=America/New_York:20260614T093000
SUMMARY:Onyx vs Garnets
DESCRIPTION:
LOCATION:D1
END:VEVENT
BEGIN:VEVENT
DTSTAMP:20140416T223543Z
UID:503
DTSTART;TZID=America/New_York:20260621T093000
DTEND;TZID=America/New_York:20260621T110000
SUMMARY:Onyx vs Topaz
DESCRIPTION:
LOCATION:D1
END:VEVENT
BEGIN:VEVENT
DTSTAMP:20140416T223543Z
UID:510
DTSTART;TZID=America/New_York:20260628T110000
DTEND;TZID=America/New_York:20260628T123000
SUMMARY:Diamonds vs Onyx
DESCRIPTION:
LOCATION:B1
END:VEVENT
BEGIN:VEVENT
DTSTAMP:20140416T223543Z
UID:513
DTSTART;TZID=America/New_York:20260705T080000
DTEND;TZID=America/New_York:20260705T093000
SUMMARY:Onyx vs Quartz
DESCRIPTION:
LOCATION:B2
END:VEVENT
BEGIN:VEVENT
DTSTAMP:20140416T223543Z
UID:520
DTSTART;TZID=America/New_York:20260712T093000
DTEND;TZID=America/New_York:20260712T110000
SUMMARY:Sapphires vs Onyx
DESCRIPTION:
LOCATION:B1
END:VEVENT
BEGIN:VEVENT
DTSTAMP:20140416T223543Z
UID:525
DTSTART;TZID=America/New_York:20260726T080000
DTEND;TZID=America/New_York:20260726T093000
SUMMARY:Topaz vs Onyx
DESCRIPTION:
LOCATION:B2
END:VEVENT
BEGIN:VEVENT
DTSTAMP:20140416T223543Z
UID:534
DTSTART;TZID=America/New_York:20260809T110000
DTEND;TZID=America/New_York:20260809T123000
SUMMARY:Garnets vs Onyx
DESCRIPTION:
LOCATION:B1
END:VEVENT
BEGIN:VEVENT
DTSTAMP:20140416T223543Z
UID:539
DTSTART;TZID=America/New_York:20260816T093000
DTEND;TZID=America/New_York:20260816T110000
SUMMARY:Onyx vs Diamonds
DESCRIPTION:
LOCATION:B2
END:VEVENT
BEGIN:VEVENT
DTSTAMP:20140416T223543Z
UID:546
DTSTART;TZID=America/New_York:20260830T110000
DTEND;TZID=America/New_York:20260830T123000
SUMMARY:Quartz vs Onyx
DESCRIPTION:
LOCATION:D2
END:VEVENT
END:VCALENDAR
