BEGIN:VCALENDAR
VERSION:2.0
PRODID:-//www.brotherhoodsoftball.com//iCal Event Maker
X-WR-TIMEZONE:America/New_York
BEGIN:VEVENT
DTSTAMP:20140416T223543Z
UID:467
DTSTART;TZID=America/New_York:20260503T093000
DTEND;TZID=America/New_York:20260503T110000
SUMMARY:Amethysts vs Jades
DESCRIPTION:
LOCATION:B2
END:VEVENT
BEGIN:VEVENT
DTSTAMP:20140416T223543Z
UID:472
DTSTART;TZID=America/New_York:20260510T093000
DTEND;TZID=America/New_York:20260510T110000
SUMMARY:Rubies vs Amethysts
DESCRIPTION:
LOCATION:B1
END:VEVENT
BEGIN:VEVENT
DTSTAMP:20140416T223543Z
UID:481
DTSTART;TZID=America/New_York:20260524T110000
DTEND;TZID=America/New_York:20260524T123000
SUMMARY:Amethysts vs Emeralds
DESCRIPTION:
LOCATION:B2
END:VEVENT
BEGIN:VEVENT
DTSTAMP:20140416T223543Z
UID:482
DTSTART;TZID=America/New_York:20260531T080000
DTEND;TZID=America/New_York:20260531T093000
SUMMARY:Ambers vs Amethysts
DESCRIPTION:
LOCATION:B1
END:VEVENT
BEGIN:VEVENT
DTSTAMP:20140416T223543Z
UID:493
DTSTART;TZID=America/New_York:20260607T110000
DTEND;TZID=America/New_York:20260607T123000
SUMMARY:Amethysts vs Opals
DESCRIPTION:
LOCATION:B2
END:VEVENT
BEGIN:VEVENT
DTSTAMP:20140416T223543Z
UID:495
DTSTART;TZID=America/New_York:20260614T080000
DTEND;TZID=America/New_York:20260614T093000
SUMMARY:Amethysts vs Rubies
DESCRIPTION:
LOCATION:D2
END:VEVENT
BEGIN:VEVENT
DTSTAMP:20140416T223543Z
UID:504
DTSTART;TZID=America/New_York:20260621T110000
DTEND;TZID=America/New_York:20260621T123000
SUMMARY:Emeralds vs Amethysts
DESCRIPTION:
LOCATION:D2
END:VEVENT
BEGIN:VEVENT
DTSTAMP:20140416T223543Z
UID:509
DTSTART;TZID=America/New_York:20260628T093000
DTEND;TZID=America/New_York:20260628T110000
SUMMARY:Amethysts vs Jades
DESCRIPTION:
LOCATION:B2
END:VEVENT
BEGIN:VEVENT
DTSTAMP:20140416T223543Z
UID:514
DTSTART;TZID=America/New_York:20260705T093000
DTEND;TZID=America/New_York:20260705T110000
SUMMARY:Opals vs Amethysts
DESCRIPTION:
LOCATION:B1
END:VEVENT
BEGIN:VEVENT
DTSTAMP:20140416T223543Z
UID:519
DTSTART;TZID=America/New_York:20260712T080000
DTEND;TZID=America/New_York:20260712T093000
SUMMARY:Amethysts vs Ambers
DESCRIPTION:
LOCATION:B2
END:VEVENT
BEGIN:VEVENT
DTSTAMP:20140416T223543Z
UID:528
DTSTART;TZID=America/New_York:20260726T110000
DTEND;TZID=America/New_York:20260726T123000
SUMMARY:Rubies vs Amethysts
DESCRIPTION:
LOCATION:B1
END:VEVENT
BEGIN:VEVENT
DTSTAMP:20140416T223543Z
UID:531
DTSTART;TZID=America/New_York:20260809T080000
DTEND;TZID=America/New_York:20260809T093000
SUMMARY:Jades vs Amethysts
DESCRIPTION:
LOCATION:B2
END:VEVENT
BEGIN:VEVENT
DTSTAMP:20140416T223543Z
UID:538
DTSTART;TZID=America/New_York:20260816T093000
DTEND;TZID=America/New_York:20260816T110000
SUMMARY:Amethysts vs Emeralds
DESCRIPTION:
LOCATION:B1
END:VEVENT
BEGIN:VEVENT
DTSTAMP:20140416T223543Z
UID:547
DTSTART;TZID=America/New_York:20260830T110000
DTEND;TZID=America/New_York:20260830T123000
SUMMARY:Ambers vs Amethysts
DESCRIPTION:
LOCATION:D3
END:VEVENT
END:VCALENDAR
