BEGIN:VCALENDAR
VERSION:2.0
PRODID:-//www.brotherhoodsoftball.com//iCal Event Maker
X-WR-TIMEZONE:America/New_York
BEGIN:VEVENT
DTSTAMP:20140416T223543Z
UID:468
DTSTART;TZID=America/New_York:20260503T110000
DTEND;TZID=America/New_York:20260503T123000
SUMMARY:Quartz vs Garnets
DESCRIPTION:
LOCATION:B1
END:VEVENT
BEGIN:VEVENT
DTSTAMP:20140416T223543Z
UID:473
DTSTART;TZID=America/New_York:20260510T093000
DTEND;TZID=America/New_York:20260510T110000
SUMMARY:Garnets vs Onyx
DESCRIPTION:
LOCATION:B2
END:VEVENT
BEGIN:VEVENT
DTSTAMP:20140416T223543Z
UID:476
DTSTART;TZID=America/New_York:20260524T080000
DTEND;TZID=America/New_York:20260524T093000
SUMMARY:Garnets vs Topaz
DESCRIPTION:
LOCATION:B1
END:VEVENT
BEGIN:VEVENT
DTSTAMP:20140416T223543Z
UID:487
DTSTART;TZID=America/New_York:20260531T110000
DTEND;TZID=America/New_York:20260531T123000
SUMMARY:Sapphires vs Garnets
DESCRIPTION:
LOCATION:B2
END:VEVENT
BEGIN:VEVENT
DTSTAMP:20140416T223543Z
UID:490
DTSTART;TZID=America/New_York:20260607T093000
DTEND;TZID=America/New_York:20260607T110000
SUMMARY:Diamonds vs Garnets
DESCRIPTION:
LOCATION:B1
END:VEVENT
BEGIN:VEVENT
DTSTAMP:20140416T223543Z
UID:494
DTSTART;TZID=America/New_York:20260614T080000
DTEND;TZID=America/New_York:20260614T093000
SUMMARY:Onyx vs Garnets
DESCRIPTION:
LOCATION:D1
END:VEVENT
BEGIN:VEVENT
DTSTAMP:20140416T223543Z
UID:505
DTSTART;TZID=America/New_York:20260621T110000
DTEND;TZID=America/New_York:20260621T123000
SUMMARY:Quartz vs Garnets
DESCRIPTION:
LOCATION:D1
END:VEVENT
BEGIN:VEVENT
DTSTAMP:20140416T223543Z
UID:506
DTSTART;TZID=America/New_York:20260628T080000
DTEND;TZID=America/New_York:20260628T093000
SUMMARY:Topaz vs Garnets
DESCRIPTION:
LOCATION:B1
END:VEVENT
BEGIN:VEVENT
DTSTAMP:20140416T223543Z
UID:515
DTSTART;TZID=America/New_York:20260705T093000
DTEND;TZID=America/New_York:20260705T110000
SUMMARY:Garnets vs Sapphires
DESCRIPTION:
LOCATION:B2
END:VEVENT
BEGIN:VEVENT
DTSTAMP:20140416T223543Z
UID:518
DTSTART;TZID=America/New_York:20260712T080000
DTEND;TZID=America/New_York:20260712T093000
SUMMARY:Garnets vs Diamonds
DESCRIPTION:
LOCATION:B1
END:VEVENT
BEGIN:VEVENT
DTSTAMP:20140416T223543Z
UID:527
DTSTART;TZID=America/New_York:20260726T093000
DTEND;TZID=America/New_York:20260726T110000
SUMMARY:Garnets vs Quartz
DESCRIPTION:
LOCATION:B2
END:VEVENT
BEGIN:VEVENT
DTSTAMP:20140416T223543Z
UID:534
DTSTART;TZID=America/New_York:20260809T110000
DTEND;TZID=America/New_York:20260809T123000
SUMMARY:Garnets vs Onyx
DESCRIPTION:
LOCATION:B1
END:VEVENT
BEGIN:VEVENT
DTSTAMP:20140416T223543Z
UID:541
DTSTART;TZID=America/New_York:20260816T110000
DTEND;TZID=America/New_York:20260816T123000
SUMMARY:Garnets vs Topaz
DESCRIPTION:
LOCATION:B2
END:VEVENT
BEGIN:VEVENT
DTSTAMP:20140416T223543Z
UID:542
DTSTART;TZID=America/New_York:20260830T080000
DTEND;TZID=America/New_York:20260830T093000
SUMMARY:Sapphires vs Garnets
DESCRIPTION:
LOCATION:D2
END:VEVENT
END:VCALENDAR
