BEGIN:VCALENDAR
VERSION:2.0
PRODID:-//www.brotherhoodsoftball.com//iCal Event Maker
X-WR-TIMEZONE:America/New_York
BEGIN:VEVENT
DTSTAMP:20140416T223543Z
UID:465
DTSTART;TZID=America/New_York:20260503T080000
DTEND;TZID=America/New_York:20260503T093000
SUMMARY:Emeralds vs Opals
DESCRIPTION:
LOCATION:B2
END:VEVENT
BEGIN:VEVENT
DTSTAMP:20140416T223543Z
UID:470
DTSTART;TZID=America/New_York:20260510T080000
DTEND;TZID=America/New_York:20260510T093000
SUMMARY:Ambers vs Emeralds
DESCRIPTION:
LOCATION:B1
END:VEVENT
BEGIN:VEVENT
DTSTAMP:20140416T223543Z
UID:481
DTSTART;TZID=America/New_York:20260524T110000
DTEND;TZID=America/New_York:20260524T123000
SUMMARY:Amethysts vs Emeralds
DESCRIPTION:
LOCATION:B2
END:VEVENT
BEGIN:VEVENT
DTSTAMP:20140416T223543Z
UID:484
DTSTART;TZID=America/New_York:20260531T093000
DTEND;TZID=America/New_York:20260531T110000
SUMMARY:Jades vs Emeralds
DESCRIPTION:
LOCATION:B1
END:VEVENT
BEGIN:VEVENT
DTSTAMP:20140416T223543Z
UID:491
DTSTART;TZID=America/New_York:20260607T093000
DTEND;TZID=America/New_York:20260607T110000
SUMMARY:Emeralds vs Rubies
DESCRIPTION:
LOCATION:B2
END:VEVENT
BEGIN:VEVENT
DTSTAMP:20140416T223543Z
UID:499
DTSTART;TZID=America/New_York:20260614T110000
DTEND;TZID=America/New_York:20260614T123000
SUMMARY:Emeralds vs Ambers
DESCRIPTION:
LOCATION:D2
END:VEVENT
BEGIN:VEVENT
DTSTAMP:20140416T223543Z
UID:504
DTSTART;TZID=America/New_York:20260621T110000
DTEND;TZID=America/New_York:20260621T123000
SUMMARY:Emeralds vs Amethysts
DESCRIPTION:
LOCATION:D2
END:VEVENT
BEGIN:VEVENT
DTSTAMP:20140416T223543Z
UID:507
DTSTART;TZID=America/New_York:20260628T080000
DTEND;TZID=America/New_York:20260628T093000
SUMMARY:Emeralds vs Opals
DESCRIPTION:
LOCATION:B2
END:VEVENT
BEGIN:VEVENT
DTSTAMP:20140416T223543Z
UID:512
DTSTART;TZID=America/New_York:20260705T080000
DTEND;TZID=America/New_York:20260705T093000
SUMMARY:Rubies vs Emeralds
DESCRIPTION:
LOCATION:B1
END:VEVENT
BEGIN:VEVENT
DTSTAMP:20140416T223543Z
UID:523
DTSTART;TZID=America/New_York:20260712T110000
DTEND;TZID=America/New_York:20260712T123000
SUMMARY:Emeralds vs Jades
DESCRIPTION:
LOCATION:B2
END:VEVENT
BEGIN:VEVENT
DTSTAMP:20140416T223543Z
UID:526
DTSTART;TZID=America/New_York:20260726T093000
DTEND;TZID=America/New_York:20260726T110000
SUMMARY:Emeralds vs Ambers
DESCRIPTION:
LOCATION:B1
END:VEVENT
BEGIN:VEVENT
DTSTAMP:20140416T223543Z
UID:535
DTSTART;TZID=America/New_York:20260809T110000
DTEND;TZID=America/New_York:20260809T123000
SUMMARY:Opals vs Emeralds
DESCRIPTION:
LOCATION:B2
END:VEVENT
BEGIN:VEVENT
DTSTAMP:20140416T223543Z
UID:538
DTSTART;TZID=America/New_York:20260816T093000
DTEND;TZID=America/New_York:20260816T110000
SUMMARY:Amethysts vs Emeralds
DESCRIPTION:
LOCATION:B1
END:VEVENT
BEGIN:VEVENT
DTSTAMP:20140416T223543Z
UID:545
DTSTART;TZID=America/New_York:20260830T093000
DTEND;TZID=America/New_York:20260830T110000
SUMMARY:Jades vs Emeralds
DESCRIPTION:
LOCATION:D3
END:VEVENT
END:VCALENDAR
