BEGIN:VCALENDAR
VERSION:2.0
PRODID:-//www.brotherhoodsoftball.com//iCal Event Maker
X-WR-TIMEZONE:America/New_York
BEGIN:VEVENT
DTSTAMP:20140416T223543Z
UID:464
DTSTART;TZID=America/New_York:20260503T080000
DTEND;TZID=America/New_York:20260503T093000
SUMMARY:Diamonds vs Sapphires
DESCRIPTION:
LOCATION:B1
END:VEVENT
BEGIN:VEVENT
DTSTAMP:20140416T223543Z
UID:475
DTSTART;TZID=America/New_York:20260510T110000
DTEND;TZID=America/New_York:20260510T123000
SUMMARY:Topaz vs Sapphires
DESCRIPTION:
LOCATION:B2
END:VEVENT
BEGIN:VEVENT
DTSTAMP:20140416T223543Z
UID:478
DTSTART;TZID=America/New_York:20260524T093000
DTEND;TZID=America/New_York:20260524T110000
SUMMARY:Sapphires vs Quartz
DESCRIPTION:
LOCATION:B1
END:VEVENT
BEGIN:VEVENT
DTSTAMP:20140416T223543Z
UID:487
DTSTART;TZID=America/New_York:20260531T110000
DTEND;TZID=America/New_York:20260531T123000
SUMMARY:Sapphires vs Garnets
DESCRIPTION:
LOCATION:B2
END:VEVENT
BEGIN:VEVENT
DTSTAMP:20140416T223543Z
UID:492
DTSTART;TZID=America/New_York:20260607T110000
DTEND;TZID=America/New_York:20260607T123000
SUMMARY:Onyx vs Sapphires
DESCRIPTION:
LOCATION:B1
END:VEVENT
BEGIN:VEVENT
DTSTAMP:20140416T223543Z
UID:496
DTSTART;TZID=America/New_York:20260614T093000
DTEND;TZID=America/New_York:20260614T110000
SUMMARY:Sapphires vs Topaz
DESCRIPTION:
LOCATION:D1
END:VEVENT
BEGIN:VEVENT
DTSTAMP:20140416T223543Z
UID:501
DTSTART;TZID=America/New_York:20260621T080000
DTEND;TZID=America/New_York:20260621T093000
SUMMARY:Diamonds vs Sapphires
DESCRIPTION:
LOCATION:D1
END:VEVENT
BEGIN:VEVENT
DTSTAMP:20140416T223543Z
UID:508
DTSTART;TZID=America/New_York:20260628T093000
DTEND;TZID=America/New_York:20260628T110000
SUMMARY:Quartz vs Sapphires
DESCRIPTION:
LOCATION:B1
END:VEVENT
BEGIN:VEVENT
DTSTAMP:20140416T223543Z
UID:515
DTSTART;TZID=America/New_York:20260705T093000
DTEND;TZID=America/New_York:20260705T110000
SUMMARY:Garnets vs Sapphires
DESCRIPTION:
LOCATION:B2
END:VEVENT
BEGIN:VEVENT
DTSTAMP:20140416T223543Z
UID:520
DTSTART;TZID=America/New_York:20260712T093000
DTEND;TZID=America/New_York:20260712T110000
SUMMARY:Sapphires vs Onyx
DESCRIPTION:
LOCATION:B1
END:VEVENT
BEGIN:VEVENT
DTSTAMP:20140416T223543Z
UID:529
DTSTART;TZID=America/New_York:20260726T110000
DTEND;TZID=America/New_York:20260726T123000
SUMMARY:Sapphires vs Diamonds
DESCRIPTION:
LOCATION:B2
END:VEVENT
BEGIN:VEVENT
DTSTAMP:20140416T223543Z
UID:530
DTSTART;TZID=America/New_York:20260809T080000
DTEND;TZID=America/New_York:20260809T093000
SUMMARY:Topaz vs Sapphires
DESCRIPTION:
LOCATION:B1
END:VEVENT
BEGIN:VEVENT
DTSTAMP:20140416T223543Z
UID:537
DTSTART;TZID=America/New_York:20260816T080000
DTEND;TZID=America/New_York:20260816T093000
SUMMARY:Sapphires vs Quartz
DESCRIPTION:
LOCATION:B2
END:VEVENT
BEGIN:VEVENT
DTSTAMP:20140416T223543Z
UID:542
DTSTART;TZID=America/New_York:20260830T080000
DTEND;TZID=America/New_York:20260830T093000
SUMMARY:Sapphires vs Garnets
DESCRIPTION:
LOCATION:D2
END:VEVENT
END:VCALENDAR
